BEGIN:VCALENDAR
VERSION:2.0
PRODID:icalendar-ruby
CALSCALE:GREGORIAN
METHOD:PUBLISH
BEGIN:VEVENT
DTSTAMP:20260423T074916Z
UID:263-1804@gormanbc.com
DTSTART:20260512T220000Z
DTEND:20260513T000000Z
CLASS:PUBLIC
CREATED:20260421T130129
DESCRIPTION:"I Believe" is the theme of this year's banquet dinner for ladi
 es of all ages. Join us for this special time for ladies. Sign up with the
  Church Office or with Mrs. Wanda Jones. 
LAST-MODIFIED:20260421T130129
LOCATION:Family Life Center
SUMMARY:Ladies' Banquet
URL;VALUE=URI:https://gormanbc.org/events/ladies-banquet--263/2026-05-12
ATTACH;FILENAME=Copy of Add a heading.png;FMTTYPE=image/png:https://dq5pwpg
 1q8ru0.cloudfront.net/2026/04/21/17/01/28/9617cac8-a6ee-40bd-b2df-c7e047af
 de09/Copy%20of%20Add%20a%20heading.png
END:VEVENT
END:VCALENDAR
