BEGIN:VCALENDAR
VERSION:2.0
PRODID:icalendar-ruby
CALSCALE:GREGORIAN
METHOD:PUBLISH
BEGIN:VEVENT
DTSTAMP:20260423T075351Z
UID:266-1800@gormanbc.com
DTSTART:20260517T144500Z
DTEND:20260517T160000Z
CLASS:PUBLIC
CREATED:20260421T123552
DESCRIPTION:Let's celebrate our graduates!
LAST-MODIFIED:20260421T123552
LOCATION:Sanctuary
SUMMARY:Graduate Sunday
URL;VALUE=URI:https://gormanbc.org/events/graduate-sunday--266/2026-05-17
ATTACH;FILENAME=grad_sunday-title-1-Wide 16x9.jpg;FMTTYPE=image/jpeg:https:
 //dq5pwpg1q8ru0.cloudfront.net/2026/04/21/16/35/52/27543192-35a0-447b-b3de
 -0a6086e403c8/grad_sunday-title-1-Wide%2016x9.jpg
END:VEVENT
END:VCALENDAR
