BEGIN:VCALENDAR
VERSION:2.0
PRODID:icalendar-ruby
CALSCALE:GREGORIAN
METHOD:PUBLISH
BEGIN:VEVENT
DTSTAMP:20260423T075701Z
UID:268-1802@gormanbc.com
DTSTART:20260514T200000Z
DTEND:20260514T230000Z
CLASS:PUBLIC
CREATED:20260421T124122
DESCRIPTION:Support Gorman Christian Academy by buying dinner for the famil
 y. Mention 'fundraiser' when you order and a portion of the cost will go t
 owards GCA!
LAST-MODIFIED:20260421T124122
LOCATION:Freddy's on Roxboro Rd.
SUMMARY:GCA Freddy's Fundraiser
URL;VALUE=URI:https://gormanbc.org/events/gca-freddys-fundraiser/2026-05-14
ATTACH;FILENAME=Freddys_SecondaryScriptOutlinedLogo.png;FMTTYPE=image/png:h
 ttps://dq5pwpg1q8ru0.cloudfront.net/2026/04/21/16/41/22/7aab7fb4-a0e8-4e90
 -80a6-d43fb380c01d/Freddys_SecondaryScriptOutlinedLogo.png
END:VEVENT
END:VCALENDAR
